BEGIN:VCALENDAR
VERSION:2.0
PRODID:-//Premier Prep Online Academy - ECPv6.15.17.1//NONSGML v1.0//EN
CALSCALE:GREGORIAN
METHOD:PUBLISH
X-WR-CALNAME:Premier Prep Online Academy
X-ORIGINAL-URL:https://www.premierpreponline.com
X-WR-CALDESC:Events for Premier Prep Online Academy
REFRESH-INTERVAL;VALUE=DURATION:PT1H
X-Robots-Tag:noindex
X-PUBLISHED-TTL:PT1H
BEGIN:VTIMEZONE
TZID:America/Phoenix
BEGIN:STANDARD
TZOFFSETFROM:-0700
TZOFFSETTO:-0700
TZNAME:MST
DTSTART:20220101T000000
END:STANDARD
END:VTIMEZONE
BEGIN:VEVENT
DTSTART;TZID=America/Phoenix:20240711T090000
DTEND;TZID=America/Phoenix:20240711T090000
DTSTAMP:20260420T132258
CREATED:20240711T160042Z
LAST-MODIFIED:20240711T160042Z
UID:10000074-1720688400-1720688400@www.premierpreponline.com
SUMMARY:Governing Board Meeting
DESCRIPTION:
URL:https://www.premierpreponline.com/event/governing-board-meeting-12
LOCATION:Virtually
END:VEVENT
BEGIN:VEVENT
DTSTART;TZID=America/Phoenix:20240517T120000
DTEND;TZID=America/Phoenix:20240517T120000
DTSTAMP:20260420T132258
CREATED:20240516T231716Z
LAST-MODIFIED:20240516T231716Z
UID:10000040-1715947200-1715947200@www.premierpreponline.com
SUMMARY:Governing Board Meeting
DESCRIPTION:
URL:https://www.premierpreponline.com/event/governing-board-meeting-10
LOCATION:Virtually
END:VEVENT
BEGIN:VEVENT
DTSTART;TZID=America/Phoenix:20240325T140000
DTEND;TZID=America/Phoenix:20240325T140000
DTSTAMP:20260420T132258
CREATED:20240325T171515Z
LAST-MODIFIED:20240325T171515Z
UID:10000039-1711375200-1711375200@www.premierpreponline.com
SUMMARY:Governing Board Meeting
DESCRIPTION:
URL:https://www.premierpreponline.com/event/governing-board-meeting-9
LOCATION:Virtually
END:VEVENT
BEGIN:VEVENT
DTSTART;TZID=America/Phoenix:20240226T140000
DTEND;TZID=America/Phoenix:20240226T140000
DTSTAMP:20260420T132258
CREATED:20240226T160100Z
LAST-MODIFIED:20240226T160100Z
UID:10000032-1708956000-1708956000@www.premierpreponline.com
SUMMARY:Governing Board Meeting
DESCRIPTION:
URL:https://www.premierpreponline.com/event/governing-board-meeting-8
LOCATION:Virtually
END:VEVENT
BEGIN:VEVENT
DTSTART;TZID=America/Phoenix:20240129T140000
DTEND;TZID=America/Phoenix:20240129T140000
DTSTAMP:20260420T132258
CREATED:20240129T001304Z
LAST-MODIFIED:20240129T001432Z
UID:10000031-1706536800-1706536800@www.premierpreponline.com
SUMMARY:Governing Board Meeting
DESCRIPTION:
URL:https://www.premierpreponline.com/event/governing-board-meeting-7
LOCATION:Virtually
END:VEVENT
BEGIN:VEVENT
DTSTART;TZID=America/Phoenix:20230926T140000
DTEND;TZID=America/Phoenix:20230926T140000
DTSTAMP:20260420T132258
CREATED:20230925T165514Z
LAST-MODIFIED:20230925T165514Z
UID:10000006-1695736800-1695736800@www.premierpreponline.com
SUMMARY:Governing Board Meeting
DESCRIPTION:2
URL:https://www.premierpreponline.com/event/governing-board-meeting-5
LOCATION:Virtually
END:VEVENT
BEGIN:VEVENT
DTSTART;TZID=America/Phoenix:20230828T140000
DTEND;TZID=America/Phoenix:20230828T140000
DTSTAMP:20260420T132258
CREATED:20230827T205144Z
LAST-MODIFIED:20230827T205144Z
UID:10000005-1693231200-1693231200@www.premierpreponline.com
SUMMARY:Governing Board Meeting
DESCRIPTION:
URL:https://www.premierpreponline.com/event/governing-board-meeting-4
LOCATION:Virtually
END:VEVENT
BEGIN:VEVENT
DTSTART;TZID=America/Phoenix:20230626T150000
DTEND;TZID=America/Phoenix:20230626T150000
DTSTAMP:20260420T132258
CREATED:20230623T141537Z
LAST-MODIFIED:20230626T163511Z
UID:10000004-1687791600-1687791600@www.premierpreponline.com
SUMMARY:Governing Board Meeting
DESCRIPTION:June 26\, 2023 – Agenda
URL:https://www.premierpreponline.com/event/governing-board-meeting-3
LOCATION:Virtually
END:VEVENT
BEGIN:VEVENT
DTSTART;TZID=America/Phoenix:20230522T140000
DTEND;TZID=America/Phoenix:20230522T140000
DTSTAMP:20260420T132258
CREATED:20230518T181822Z
LAST-MODIFIED:20230518T181822Z
UID:10000003-1684764000-1684764000@www.premierpreponline.com
SUMMARY:Governing Board Meeting
DESCRIPTION:May 22\, 2023 – Agenda
URL:https://www.premierpreponline.com/event/governing-board-meeting-2
LOCATION:Virtually
END:VEVENT
BEGIN:VEVENT
DTSTART;TZID=America/Phoenix:20230424T140000
DTEND;TZID=America/Phoenix:20230424T140000
DTSTAMP:20260420T132258
CREATED:20230421T184512Z
LAST-MODIFIED:20230421T184512Z
UID:10000002-1682344800-1682344800@www.premierpreponline.com
SUMMARY:Governing Board Meeting
DESCRIPTION:April 24\, 2023 – Agenda
URL:https://www.premierpreponline.com/event/governing-board-meeting
LOCATION:Virtually
END:VEVENT
END:VCALENDAR